BEGIN:VCALENDAR
VERSION:2.0
PRODID:-//Northstar Running - ECPv6.15.20//NONSGML v1.0//EN
CALSCALE:GREGORIAN
METHOD:PUBLISH
X-ORIGINAL-URL:https://www.northstarrunning.com
X-WR-CALDESC:Events for Northstar Running
REFRESH-INTERVAL;VALUE=DURATION:PT1H
X-Robots-Tag:noindex
X-PUBLISHED-TTL:PT1H
BEGIN:VTIMEZONE
TZID:America/Chicago
BEGIN:DAYLIGHT
TZOFFSETFROM:-0600
TZOFFSETTO:-0500
TZNAME:CDT
DTSTART:20240310T080000
END:DAYLIGHT
BEGIN:STANDARD
TZOFFSETFROM:-0500
TZOFFSETTO:-0600
TZNAME:CST
DTSTART:20241103T070000
END:STANDARD
BEGIN:DAYLIGHT
TZOFFSETFROM:-0600
TZOFFSETTO:-0500
TZNAME:CDT
DTSTART:20250309T080000
END:DAYLIGHT
BEGIN:STANDARD
TZOFFSETFROM:-0500
TZOFFSETTO:-0600
TZNAME:CST
DTSTART:20251102T070000
END:STANDARD
BEGIN:DAYLIGHT
TZOFFSETFROM:-0600
TZOFFSETTO:-0500
TZNAME:CDT
DTSTART:20260308T080000
END:DAYLIGHT
BEGIN:STANDARD
TZOFFSETFROM:-0500
TZOFFSETTO:-0600
TZNAME:CST
DTSTART:20261101T070000
END:STANDARD
END:VTIMEZONE
BEGIN:VEVENT
DTSTART;TZID=America/Chicago:20251005T070000
DTEND;TZID=America/Chicago:20251005T140000
DTSTAMP:20260419T153025
CREATED:20250910T213923Z
LAST-MODIFIED:20251005T021342Z
UID:35505-1759647600-1759672800@www.northstarrunning.com
SUMMARY:TCM & 10 Mile Northstar Cheer Zone!!! Bring your friends & family\, along with your cowbells & noisemakers\, to cheer on the runners! We'll be at mile 26 at the base of the hill across from the Cathedral all day!
DESCRIPTION:
URL:https://www.northstarrunning.com/calendar/tcm-10-mile-northstar-cheer-zone-bring-your-friends-family-along-with-your-cowbells-noisemakers-to-cheer-on-the-runners-well-be-at-mile-26-at-the-base-of-the-hill-across-from/
LOCATION:John Ireland Boulevard & Dayton Avenue\, Saint Paul\, MN\, United States
CATEGORIES:Group Run
END:VEVENT
END:VCALENDAR