BEGIN:VCALENDAR
VERSION:2.0
PRODID:-//Northstar Running - ECPv6.15.20//NONSGML v1.0//EN
CALSCALE:GREGORIAN
METHOD:PUBLISH
X-ORIGINAL-URL:https://www.northstarrunning.com
X-WR-CALDESC:Events for Northstar Running
REFRESH-INTERVAL;VALUE=DURATION:PT1H
X-Robots-Tag:noindex
X-PUBLISHED-TTL:PT1H
BEGIN:VTIMEZONE
TZID:America/Chicago
BEGIN:DAYLIGHT
TZOFFSETFROM:-0600
TZOFFSETTO:-0500
TZNAME:CDT
DTSTART:20240310T080000
END:DAYLIGHT
BEGIN:STANDARD
TZOFFSETFROM:-0500
TZOFFSETTO:-0600
TZNAME:CST
DTSTART:20241103T070000
END:STANDARD
BEGIN:DAYLIGHT
TZOFFSETFROM:-0600
TZOFFSETTO:-0500
TZNAME:CDT
DTSTART:20250309T080000
END:DAYLIGHT
BEGIN:STANDARD
TZOFFSETFROM:-0500
TZOFFSETTO:-0600
TZNAME:CST
DTSTART:20251102T070000
END:STANDARD
BEGIN:DAYLIGHT
TZOFFSETFROM:-0600
TZOFFSETTO:-0500
TZNAME:CDT
DTSTART:20260308T080000
END:DAYLIGHT
BEGIN:STANDARD
TZOFFSETFROM:-0500
TZOFFSETTO:-0600
TZNAME:CST
DTSTART:20261101T070000
END:STANDARD
END:VTIMEZONE
BEGIN:VEVENT
DTSTART;TZID=America/Chicago:20251004T061500
DTEND;TZID=America/Chicago:20251004T104500
DTSTAMP:20260419T140042
CREATED:20250826T193342Z
LAST-MODIFIED:20251004T021219Z
UID:35474-1759558500-1759574700@www.northstarrunning.com
SUMMARY:TC 5K & 10K Fluid Station Volunteering!
DESCRIPTION:
URL:https://www.northstarrunning.com/calendar/tc-5k-10k-fluid-station-volunteering/
LOCATION:MN
CATEGORIES:Group Run
END:VEVENT
BEGIN:VEVENT
DTSTART;TZID=America/Chicago:20251004T061500
DTEND;TZID=America/Chicago:20251004T104500
DTSTAMP:20260419T140042
CREATED:20250826T193354Z
LAST-MODIFIED:20250826T193354Z
UID:35475-1759558500-1759574700@www.northstarrunning.com
SUMMARY:TC 5K & 10K Fluid Station Volunteering!
DESCRIPTION:
URL:https://www.northstarrunning.com/calendar/tc-5k-10k-fluid-station-volunteering-2/
LOCATION:MN
CATEGORIES:Group Run
END:VEVENT
END:VCALENDAR