BEGIN:VCALENDAR
VERSION:2.0
PRODID:-//Northstar Running - ECPv6.15.20//NONSGML v1.0//EN
CALSCALE:GREGORIAN
METHOD:PUBLISH
X-ORIGINAL-URL:https://www.northstarrunning.com
X-WR-CALDESC:Events for Northstar Running
REFRESH-INTERVAL;VALUE=DURATION:PT1H
X-Robots-Tag:noindex
X-PUBLISHED-TTL:PT1H
BEGIN:VTIMEZONE
TZID:UTC
BEGIN:STANDARD
TZOFFSETFROM:+0000
TZOFFSETTO:+0000
TZNAME:UTC
DTSTART:20240101T000000
END:STANDARD
END:VTIMEZONE
BEGIN:VEVENT
DTSTART;TZID=UTC:20250827T173000
DTEND;TZID=UTC:20250827T183000
DTSTAMP:20260421T100534
CREATED:20250825T143442Z
LAST-MODIFIED:20250825T143442Z
UID:35469-1756315800-1756319400@www.northstarrunning.com
SUMMARY:Speedwork - Bde Maka Ska
DESCRIPTION:
URL:https://www.northstarrunning.com/calendar/speedwork-bde-maka-ska/
LOCATION:3033 Excelsior Blvd\, Minneapolis\, MN\, United States
CATEGORIES:Group Run
END:VEVENT
END:VCALENDAR