BEGIN:VCALENDAR
VERSION:2.0
PRODID:-//Northstar Running - ECPv6.15.20//NONSGML v1.0//EN
CALSCALE:GREGORIAN
METHOD:PUBLISH
X-ORIGINAL-URL:https://www.northstarrunning.com
X-WR-CALDESC:Events for Northstar Running
REFRESH-INTERVAL;VALUE=DURATION:PT1H
X-Robots-Tag:noindex
X-PUBLISHED-TTL:PT1H
BEGIN:VTIMEZONE
TZID:UTC
BEGIN:STANDARD
TZOFFSETFROM:+0000
TZOFFSETTO:+0000
TZNAME:UTC
DTSTART:20240101T000000
END:STANDARD
END:VTIMEZONE
BEGIN:VEVENT
DTSTART;TZID=UTC:20250531T080000
DTEND;TZID=UTC:20250531T100000
DTSTAMP:20260423T072508
CREATED:20250528T203703Z
LAST-MODIFIED:20250528T203703Z
UID:34838-1748678400-1748685600@www.northstarrunning.com
SUMMARY:Hyland Hills Trail Run/FANS Cheering - meet in parking lot across from Normandale Lake
DESCRIPTION:
URL:https://www.northstarrunning.com/calendar/hyland-hills-trail-run-fans-cheering-meet-in-parking-lot-across-from-normandale-lake/
LOCATION:8415 Chalet Rd\, Bloomington MN\, 55438
CATEGORIES:Group Run
END:VEVENT
END:VCALENDAR