BEGIN:VCALENDAR
VERSION:2.0
PRODID:-//Northstar Running - ECPv6.15.20//NONSGML v1.0//EN
CALSCALE:GREGORIAN
METHOD:PUBLISH
X-ORIGINAL-URL:https://www.northstarrunning.com
X-WR-CALDESC:Events for Northstar Running
REFRESH-INTERVAL;VALUE=DURATION:PT1H
X-Robots-Tag:noindex
X-PUBLISHED-TTL:PT1H
BEGIN:VTIMEZONE
TZID:America/Chicago
BEGIN:DAYLIGHT
TZOFFSETFROM:-0600
TZOFFSETTO:-0500
TZNAME:CDT
DTSTART:20240310T080000
END:DAYLIGHT
BEGIN:STANDARD
TZOFFSETFROM:-0500
TZOFFSETTO:-0600
TZNAME:CST
DTSTART:20241103T070000
END:STANDARD
BEGIN:DAYLIGHT
TZOFFSETFROM:-0600
TZOFFSETTO:-0500
TZNAME:CDT
DTSTART:20250309T080000
END:DAYLIGHT
BEGIN:STANDARD
TZOFFSETFROM:-0500
TZOFFSETTO:-0600
TZNAME:CST
DTSTART:20251102T070000
END:STANDARD
BEGIN:DAYLIGHT
TZOFFSETFROM:-0600
TZOFFSETTO:-0500
TZNAME:CDT
DTSTART:20260308T080000
END:DAYLIGHT
BEGIN:STANDARD
TZOFFSETFROM:-0500
TZOFFSETTO:-0600
TZNAME:CST
DTSTART:20261101T070000
END:STANDARD
END:VTIMEZONE
BEGIN:VEVENT
DTSTART;TZID=America/Chicago:20250526T073000
DTEND;TZID=America/Chicago:20250526T093000
DTSTAMP:20260423T103156
CREATED:20250425T233102Z
LAST-MODIFIED:20250526T011502Z
UID:33842-1748244600-1748251800@www.northstarrunning.com
SUMMARY:Team Race-Brian Kraft 5K
DESCRIPTION:
URL:https://www.northstarrunning.com/calendar/team-race-brian-kraft-5k/
LOCATION:Lake Nokomis Community Center\, 2401 E Minnehaha Pkwy\, Minneapolis\, MN\, United States
CATEGORIES:Group Run
END:VEVENT
BEGIN:VEVENT
DTSTART;TZID=America/Chicago:20250526T103000
DTEND;TZID=America/Chicago:20250526T150000
DTSTAMP:20260423T103156
CREATED:20250425T233103Z
LAST-MODIFIED:20250526T011506Z
UID:33844-1748255400-1748271600@www.northstarrunning.com
SUMMARY:Northstar BBQ & Annual Meeting - Davenport Residence
DESCRIPTION:
URL:https://www.northstarrunning.com/calendar/northstar-bbq-annual-meeting-davenport-residence/
LOCATION:5408 Colfax Ave South\, Minneapolis\, MN\, United States
CATEGORIES:Group Run
END:VEVENT
END:VCALENDAR